{"text_format":"1","workbook":"xlsx","n_sheets":7,"sheets":["Menu","22Figure","32Figure","23Figure","33Figure","24Figure","language"],"not_rendered":{"charts":5,"images":0,"macros":1,"external_links":0,"defined_names":0,"comments":0,"pivot_tables":0},"unopened":[],"bounds":{"document_bytes":16777216,"sheet_cells":100000,"rows_first":2000,"rows_last":500,"rows_between":2000,"halvings":0,"cell_chars":16384,"cell_head_chars":4096},"cells_cut":0,"cells_raw":0,"read":"whole","date_system":"1900"}

{"sheet":"Menu","index":0,"n_rows":4,"n_cols":5,"rows_kept":4,"cut":false,"hidden":false,"merged":[]}
[]
[]
[{"$f":"language!A2","v":"界面语言"},"Chinese",null,{"$f":"language!A11","v":"图形类型"},"2X4图形-三因素"]
[{"$f":"language!A21","v":"调节变量类型"},"2连续变量",null,{"$f":"language!A5","v":"数据"},"标准化数据"]

{"sheet":"22Figure","index":1,"n_rows":21,"n_cols":4,"rows_kept":21,"cut":false,"hidden":false,"merged":[[17,0,17,3],[0,0,0,2]]}
[{"$f":"language!A101","v":"请只在有填充色的单元格中，输入必需的信息。如需帮助，请访问：www.obhrm.net/index.php/mod"},null,null,{"$f":"language!A102","v":"返回菜单"}]
[]
[{"$f":"language!A41","v":"图形标题"},"图1 调节作用效果图"]
[{"$f":"language!A42","v":"横轴标题"},"自变量名称"]
[{"$f":"language!A51","v":"纵轴标题"},"因变量名称"]
[{"$f":"language!A43","v":"自变量图例（低）"},"低"]
[{"$f":"language!A45","v":"自变量图例（高）"},"高"]
[{"$f":"language!A53","v":"调节变量图例（低）"}," 权力距离低"]
[{"$f":"language!A55","v":"调节变量图例（高）"}," 权力距离高"]
[]
[]
[]
[null,{"$f":"language!A91","v":"非标准化回归系数（B）"},{"$f":"language!A92","v":"平均值（M）"},{"$f":"language!A93","v":"标准差（SD）"}]
[{"$f":"language!A71","v":"主效应"},0.6,0,1]
[{"$f":"language!A72","v":"调节变量效应"},0.4,0,1]
[{"$f":"language!A73","v":"调节效应"},-1]
[{"$f":"language!A74","v":"常量"},3]
[]
[null,{"$f":"B6","v":"低"},{"$f":"B7","v":"高"}]
[{"$f":"B8","v":" 权力距离低"},{"$f":"((C14-D14)*B14)+((C15-D15)*B15)+((C14-D14)*(C15-D15))*B16+B17","v":1},{"$f":"(C14+D14)*B14+((C15-D15)*B15)+((C14+D14)*(C15-D15)*B16)+B17","v":4.2}]
[{"$f":"B9","v":" 权力距离高"},{"$f":"((C14-D14)*B14)+(C15+D15)*B15+((C14-D14)*(C15+D15)*B16)+B17","v":3.8},{"$f":"(C14+D14)*B14+(C15+D15)*B15+((C14+D14)*(C15+D15))*B16+B17","v":3}]

{"sheet":"32Figure","index":2,"n_rows":21,"n_cols":4,"rows_kept":21,"cut":false,"hidden":false,"merged":[[0,0,0,2],[17,0,17,3]]}
[{"$f":"language!A101","v":"请只在有填充色的单元格中，输入必需的信息。如需帮助，请访问：www.obhrm.net/index.php/mod"},null,null,{"$f":"language!A102","v":"返回菜单"}]
[]
[{"$f":"language!A41","v":"图形标题"},"图1 调节作用效果图"]
[{"$f":"language!A42","v":"横轴标题"},"自变量名称"]
[{"$f":"language!A51","v":"纵轴标题"},"因变量名称"]
[{"$f":"language!A43","v":"自变量图例（低）"},"低"]
[{"$f":"language!A44","v":"自变量图例（中）"},"中"]
[{"$f":"language!A45","v":"自变量图例（高）"},"高"]
[{"$f":"language!A53","v":"调节变量图例（低）"},"  权力距离低"]
[{"$f":"language!A55","v":"调节变量图例（高）"},"  权力距离高"]
[]
[]
[null,{"$f":"language!A91","v":"非标准化回归系数（B）"},{"$f":"language!A92","v":"平均值（M）"},{"$f":"language!A93","v":"标准差（SD）"}]
[{"$f":"language!A71","v":"主效应"},0.6,0,1]
[{"$f":"language!A72","v":"调节变量效应"},0.4,0,1]
[{"$f":"language!A73","v":"调节效应"},0.9]
[{"$f":"language!A74","v":"常量"},5]
[]
[null,{"$f":"B6","v":"低"},{"$f":"B7","v":"中"},{"$f":"B8","v":"高"}]
[{"$f":"B9","v":"  权力距离低"},{"$f":"((C14-D14)*B14)+((C15-D15)*B15)+((C14-D14)*(C15-D15))*B16+B17","v":4.9000000000000004},{"$f":"((C15-D15)*B15)+B17","v":4.5999999999999996},{"$f":"(C14+D14)*B14+((C15-D15)*B15)+((C14+D14)*(C15-D15)*B16)+B17","v":4.3}]
[{"$f":"B10","v":"  权力距离高"},{"$f":"((C14-D14)*B14)+(C15+D15)*B15+((C14-D14)*(C15+D15)*B16)+B17","v":3.9},{"$f":"(C15+D15)*B15+B17","v":5.4},{"$f":"(C14+D14)*B14+(C15+D15)*B15+((C14+D14)*(C15+D15))*B16+B17","v":6.9}]

{"sheet":"23Figure","index":3,"n_rows":22,"n_cols":4,"rows_kept":22,"cut":false,"hidden":false,"merged":[[0,0,0,2],[17,0,17,3]]}
[{"$f":"language!A101","v":"请只在有填充色的单元格中，输入必需的信息。如需帮助，请访问：www.obhrm.net/index.php/mod"},null,null,{"$f":"language!A102","v":"返回菜单"}]
[]
[{"$f":"language!A41","v":"图形标题"},"图1 调节作用效果图"]
[{"$f":"language!A42","v":"横轴标题"},"自变量名称"]
[{"$f":"language!A51","v":"纵轴标题"},"因变量名称"]
[{"$f":"language!A43","v":"自变量图例（低）"},"低"]
[{"$f":"language!A45","v":"自变量图例（高）"},"高"]
[{"$f":"language!A53","v":"调节变量图例（低）"},"权力距离低"]
[{"$f":"language!A54","v":"调节变量图例（中）"},"权力距离中"]
[{"$f":"language!A55","v":"调节变量图例（高）"},"权力距离高"]
[]
[]
[null,{"$f":"language!A91","v":"非标准化回归系数（B）"},{"$f":"language!A92","v":"平均值（M）"},{"$f":"language!A93","v":"标准差（SD）"}]
[{"$f":"language!A71","v":"主效应"},0.6,0,1]
[{"$f":"language!A72","v":"调节变量效应"},0.4,0,1]
[{"$f":"language!A73","v":"调节效应"},0.9]
[{"$f":"language!A74","v":"常量"},5]
[]
[null,{"$f":"B6","v":"低"},{"$f":"B7","v":"高"}]
[{"$f":"B8","v":"权力距离低"},{"$f":"((C14-D14)*B14)+((C15-D15)*B15)+((C14-D14)*(C15-D15))*B16+B17","v":4.9000000000000004},{"$f":"(C14+D14)*B14+((C15-D15)*B15)+((C14+D14)*(C15-D15)*B16)+B17","v":4.3}]
[{"$f":"B9","v":"权力距离中"},{"$f":"((C14-D14)*B14)+B17","v":4.4000000000000004},{"$f":"(C14+D14)*B14+B17","v":5.6}]
[{"$f":"B10","v":"权力距离高"},{"$f":"((C14-D14)*B14)+(C15+D15)*B15+((C14-D14)*(C15+D15)*B16)+B17","v":3.9},{"$f":"(C14+D14)*B14+(C15+D15)*B15+((C14+D14)*(C15+D15))*B16+B17","v":6.9}]

{"sheet":"33Figure","index":4,"n_rows":22,"n_cols":4,"rows_kept":22,"cut":false,"hidden":false,"merged":[[0,0,0,2],[17,0,17,3]]}
[{"$f":"language!A101","v":"请只在有填充色的单元格中，输入必需的信息。如需帮助，请访问：www.obhrm.net/index.php/mod"},null,null,{"$f":"language!A102","v":"返回菜单"}]
[]
[{"$f":"language!A41","v":"图形标题"},"图1 调节作用效果图"]
[{"$f":"language!A42","v":"横轴标题"},"自变量名称"]
[{"$f":"language!A51","v":"纵轴标题"},"因变量名称"]
[{"$f":"language!A43","v":"自变量图例（低）"},"低"]
[{"$f":"language!A44","v":"自变量图例（中）"},"中"]
[{"$f":"language!A45","v":"自变量图例（高）"},"高"]
[{"$f":"language!A53","v":"调节变量图例（低）"},"权力距离低"]
[{"$f":"language!A54","v":"调节变量图例（中）"},"权力距离中"]
[{"$f":"language!A55","v":"调节变量图例（高）"},"权力距离高"]
[]
[null,{"$f":"language!A91","v":"非标准化回归系数（B）"},{"$f":"language!A92","v":"平均值（M）"},{"$f":"language!A93","v":"标准差（SD）"}]
[{"$f":"language!A71","v":"主效应"},0.6,0,1]
[{"$f":"language!A72","v":"调节变量效应"},0.4,0,1]
[{"$f":"language!A73","v":"调节效应"},-1]
[{"$f":"language!A74","v":"常量"},3]
[]
[null,{"$f":"B6","v":"低"},{"$f":"B7","v":"中"},{"$f":"B8","v":"高"}]
[{"$f":"B9","v":"权力距离低"},{"$f":"((C14-D14)*B14)+((C15-D15)*B15)+((C14-D14)*(C15-D15))*B16+B17","v":1},{"$f":"((C15-D15)*B15)+B17","v":2.6},{"$f":"(C14+D14)*B14+((C15-D15)*B15)+((C14+D14)*(C15-D15)*B16)+B17","v":4.2}]
[{"$f":"B10","v":"权力距离中"},{"$f":"((C14-D14)*B14)+B17","v":2.4},{"$f":"B17","v":3},{"$f":"(C14+D14)*B14+B17","v":3.6}]
[{"$f":"B11","v":"权力距离高"},{"$f":"((C14-D14)*B14)+(C15+D15)*B15+((C14-D14)*(C15+D15)*B16)+B17","v":3.8},{"$f":"(C15+D15)*B15+B17","v":3.4},{"$f":"(C14+D14)*B14+(C15+D15)*B15+((C14+D14)*(C15+D15))*B16+B17","v":3}]

{"sheet":"24Figure","index":5,"n_rows":27,"n_cols":4,"rows_kept":27,"cut":false,"hidden":false,"merged":[[0,0,0,2],[21,0,21,3]]}
[{"$f":"language!A101","v":"请只在有填充色的单元格中，输入必需的信息。如需帮助，请访问：www.obhrm.net/index.php/mod"},null,null,{"$f":"language!A102","v":"返回菜单"}]
[]
[{"$f":"language!A41","v":"图形标题"},"图1 三因素调节效应效果图"]
[{"$f":"language!A42","v":"横轴标题"},"自变量名称"]
[{"$f":"language!A51","v":"纵轴标题"},"因变量名称"]
[{"$f":"language!A43","v":"自变量图例（低）"},"低"]
[{"$f":"language!A45","v":"自变量图例（高）"},"高"]
[{"$f":"language!A56","v":"调节变量1图例（低）"},"  权力距离低"]
[{"$f":"language!A57","v":"调节变量1图例（高）"},"  权力距离高"]
[{"$f":"language!A58","v":"调节变量2图例（低）"},"集体主义低"]
[{"$f":"language!A59","v":"调节变量2图例（高）"},"集体主义高"]
[]
[null,{"$f":"language!A91","v":"非标准化回归系数（B）"},{"$f":"language!A92","v":"平均值（M）"},{"$f":"language!A93","v":"标准差（SD）"}]
[{"$f":"language!A71","v":"主效应"},4.3E-3,0,1]
[{"$f":"language!A75","v":"调节变量1"},6.4000000000000001E-2,0,1]
[{"$f":"language!A76","v":"调节变量2"},4.2000000000000003E-2,0,1]
[{"$f":"language!A77","v":"自变量*调节1"},2.5000000000000001E-2]
[{"$f":"language!A78","v":"自变量*调节2"},0]
[{"$f":"language!A79","v":"调节1*调节2"},6.3E-2]
[{"$f":"language!A80","v":"自变量*调节1*调节2"},9.2999999999999999E-2]
[{"$f":"language!A74","v":"常量"},3]
[]
[null,{"$f":"B6","v":"低"},{"$f":"B7","v":"高"}]
[{"$f":"B8&\"，\"&B10","v":"  权力距离低，集体主义低"},{"$f":"(C14-D14)*B14+(C15-D15)*B15+(C16-D16)*B16+(C14-D14)*(C15-D15)*B17+(C14-D14)*(C16-D16)*B18+(C15-D15)*(C16-D16)*B19+(C14-D14)*(C15-D15)*(C16-D16)*B20+B21","v":2.8847},{"$f":"(C14+D14)*B14+(C15-D15)*B15+(C16-D16)*B16+(C14+D14)*(C15-D15)*B17+(C14+D14)*(C16-D16)*B18+(C15-D15)*(C16-D16)*B19+(C14+D14)*(C15-D15)*(C16-D16)*B20+B21","v":3.0293000000000001}]
[{"$f":"B8&\"，\"&B11","v":"  权力距离低，集体主义高"},3.0287000000000002,{"$f":"(C14+D14)*B14+(C15-D15)*B15+(C16+D16)*B16+(C14+D14)*(C15-D15)*B17+(C14+D14)*(C16+D16)*B18+(C15-D15)*(C16+D16)*B19+(C14+D14)*(C15-D15)*(C16+D16)*B20+B21","v":2.8012999999999999}]
[{"$f":"B9&\"，\"&B10","v":"  权力距离高，集体主义低"},{"$f":"(C14-D14)*B14+(C15+D15)*B15+(C16-D16)*B16+(C14-D14)*(C15+D15)*B17+(C14-D14)*(C16-D16)*B18+(C15+D15)*(C16-D16)*B19+(C14-D14)*(C15+D15)*(C16-D16)*B20+B21","v":3.0226999999999999},{"$f":"(C14+D14)*B14+(C15+D15)*B15+(C16-D16)*B16+(C14+D14)*(C15+D15)*B17+(C14+D14)*(C16-D16)*B18+(C15+D15)*(C16-D16)*B19+(C14+D14)*(C15+D15)*(C16-D16)*B20+B21","v":2.8953000000000002}]
[{"$f":"B9&\"，\"&B11","v":"  权力距离高，集体主义高"},{"$f":"(C14-D14)*B14+(C15+D15)*B15+(C16+D16)*B16+(C14-D14)*(C15+D15)*B17+(C14-D14)*(C16+D16)*B18+(C15+D15)*(C16+D16)*B19+(C14-D14)*(C15+D15)*(C16+D16)*B20+B21","v":3.0467},{"$f":"(C14+D14)*B14+(C15+D15)*B15+(C16+D16)*B16+(C14+D14)*(C15+D15)*B17+(C14+D14)*(C16+D16)*B18+(C15+D15)*(C16+D16)*B19+(C14+D14)*(C15+D15)*(C16+D16)*B20+B21","v":3.2913000000000001}]

{"sheet":"language","index":6,"n_rows":115,"n_cols":3,"rows_kept":115,"cut":false,"hidden":false,"merged":[]}
["Now","English","Chinese"]
["界面语言","Interface Language","界面语言"]
["修改设置","Modify settings","修改设置"]
["修改设置并输入数据","Modify settings & Data Entry","修改设置并输入数据"]
["数据","Data","数据"]
["原始数据或去中心化数据","unstandardised","原始数据或去中心化数据"]
["标准化数据","standardised","标准化数据"]
[]
[]
[]
["图形类型","Figure Type","图形类型"]
["2X2图形-双因素","2X2 Figure-Two way","2X2图形-双因素"]
["3X2图形-双因素","3X2 Figure-Two way","3X2图形-双因素"]
["2X3图形-双因素","2X3 Figure-Two way","2X3图形-双因素"]
["3X3图形-双因素","3X3 Figure-Two way","3X3图形-双因素"]
["2X4图形-三因素","2X4 Figure-Three way","2X4图形-三因素"]
["3X4图形-三因素","3X4 Figure-Three way","3X4图形-三因素"]
[]
[]
[]
["调节变量类型","Moderator Type","调节变量类型"]
["1连续变量","One Continutious","1连续变量"]
["1分类变量（值分别为0、1）","One Binary","1分类变量（值分别为0、1）"]
["1连续变量，1分类变量","One Continutious & One Binary","1连续变量，1分类变量"]
["1分类变量，1连续变量","One Binary & One Continutious","1分类变量，1连续变量"]
["2连续变量","Two Continutious","2连续变量"]
["2分类变量","Two Binary","2分类变量"]
[]
[]
[]
[]
[]
[]
[]
[]
[]
[]
[]
[]
[]
["图形标题","Title","图形标题"]
["横轴标题","X Axis","横轴标题"]
["自变量图例（低）","IV Legend(Low)","自变量图例（低）"]
["自变量图例（中）","IV Legend(Mid)","自变量图例（中）"]
["自变量图例（高）","IV Legend(High)","自变量图例（高）"]
[]
[]
[]
[]
[]
["纵轴标题","Y Axis","纵轴标题"]
["调节变量名称","Moderator Name","调节变量名称"]
["调节变量图例（低）","Mod Legend(Low)","调节变量图例（低）"]
["调节变量图例（中）","Mod Legend(Mid)","调节变量图例（中）"]
["调节变量图例（高）","Mod Legend(High)","调节变量图例（高）"]
["调节变量1图例（低）","Mod1 Legend(Low)","调节变量1图例（低）"]
["调节变量1图例（高）","Mod1 Legend(High)","调节变量1图例（高）"]
["调节变量2图例（低）","Mod2 Legend(Low)","调节变量2图例（低）"]
["调节变量2图例（高）","Mod2 Legend(High)","调节变量2图例（高）"]
[]
[]
[]
[]
[]
[]
[]
[]
[]
[]
[]
["主效应","Main Effect","主效应"]
["调节变量效应","Moderating Variable","调节变量效应"]
["调节效应","Interaction Term","调节效应"]
["常量","Constant","常量"]
["调节变量1","Mod Var1","调节变量1"]
["调节变量2","Mod Var2","调节变量2"]
["自变量*调节1","IV*ModVar1","自变量*调节1"]
["自变量*调节2","IV*ModVar2","自变量*调节2"]
["调节1*调节2","ModVar1*ModVar2","调节1*调节2"]
["自变量*调节1*调节2","IV*ModVar1*ModVar2","自变量*调节1*调节2"]
[]
[]
[]
[]
[]
[]
[]
[]
[]
[]
["非标准化回归系数（B）","B (unstandardized coefficient)","非标准化回归系数（B）"]
["平均值（M）","Mean","平均值（M）"]
["标准差（SD）","SD","标准差（SD）"]
[]
[]
[]
[]
[]
[]
[]
["请只在有填充色的单元格中，输入必需的信息。如需帮助，请访问：www.obhrm.net/index.php/mod","Please only input in the shaded cells","请只在有填充色的单元格中，输入必需的信息。如需帮助，请访问：www.obhrm.net/index.php/mod"]
["返回菜单","Return to Menu","返回菜单"]
[]
[]
[]
[]
[]
[]
[]
[]
["输入错误","Input Error","输入错误"]
["2X3图形调节变量只能是1连续变量，请重新设置","2X3 Figure's moderator can only be continous variable","2X3图形调节变量只能是1连续变量，请重新设置"]
["3X3图形调节变量只能是1连续变量，请重新设置","3X3 Figure's moderator can only be continous variable","3X3图形调节变量只能是1连续变量，请重新设置"]
["只能有1个调节变量","No more than one moderator","只能有1个调节变量"]
["必须有两个调节变量","Should have two moderator","必须有两个调节变量"]